BEGIN:VCALENDAR
VERSION:2.0
CALSCALE:GREGORIAN
BEGIN:VEVENT
SUMMARY:ESG Edge Connect Network – Diversity, Equity &#038; Inclusion
DESCRIPTION:
LOCATION:Hilton Manila
DTSTART;VALUE=DATE:20250324
DTEND;VALUE=DATE:20250325
URL:https://aepic.asia/event/esg-edge-connect-network-diversity-equity-inclusion/
END:VEVENT
END:VCALENDAR